BEGIN:VCALENDAR
VERSION:2.0
PRODID:-//CERTPS - ECPv6.15.20//NONSGML v1.0//EN
CALSCALE:GREGORIAN
METHOD:PUBLISH
X-ORIGINAL-URL:https://certps.com
X-WR-CALDESC:Events for CERTPS
REFRESH-INTERVAL;VALUE=DURATION:PT1H
X-Robots-Tag:noindex
X-PUBLISHED-TTL:PT1H
BEGIN:VTIMEZONE
TZID:America/New_York
BEGIN:DAYLIGHT
TZOFFSETFROM:-0500
TZOFFSETTO:-0400
TZNAME:EDT
DTSTART:20170312T070000
END:DAYLIGHT
BEGIN:STANDARD
TZOFFSETFROM:-0400
TZOFFSETTO:-0500
TZNAME:EST
DTSTART:20171105T060000
END:STANDARD
BEGIN:DAYLIGHT
TZOFFSETFROM:-0500
TZOFFSETTO:-0400
TZNAME:EDT
DTSTART:20180311T070000
END:DAYLIGHT
BEGIN:STANDARD
TZOFFSETFROM:-0400
TZOFFSETTO:-0500
TZNAME:EST
DTSTART:20181104T060000
END:STANDARD
BEGIN:DAYLIGHT
TZOFFSETFROM:-0500
TZOFFSETTO:-0400
TZNAME:EDT
DTSTART:20190310T070000
END:DAYLIGHT
BEGIN:STANDARD
TZOFFSETFROM:-0400
TZOFFSETTO:-0500
TZNAME:EST
DTSTART:20191103T060000
END:STANDARD
END:VTIMEZONE
BEGIN:VEVENT
DTSTART;VALUE=DATE:20180723
DTEND;VALUE=DATE:20180728
DTSTAMP:20260422T143803
CREATED:20180419T201657Z
LAST-MODIFIED:20210103T155042Z
UID:338-1532304000-1532735999@certps.com
SUMMARY:20742: Identity with Windows Server 2016 Course Description July 2018
DESCRIPTION:July 23\, 2018 – July 27\, 2018\n9:00am – 5:00pm EST             40 Hours\nThis course teaches IT Pros how to deploy and configure Active Directory Domain Services (AD DS) in a distributed environment\, how to implement Group Policy\, how to perform backup and restore\, and how to monitor and troubleshoot Active Directory–related issues with Windows Server 2016. Additionally\, this course teaches how to deploy other Active Directory server roles such as Active Directory Federation Services (AD FS) and Active Directory Certificate Services (AD CS). This course is based on the objectives of the course version 20742B \nMicrosoft Windows Server\nMicrosoft Windows Server is a series of server operating systems to support enterprise-level management and the sharing of services with different users. Windows Server facilitates efficient data storage while supporting diverse applications and smooth communications with extensive administrative control. Windows Server consists of a group of more powerful versions of the desktop operating system counterparts specifically designed to address the concerns of databases\, Internet/intranet hosting\, corporate networking\, enterprise-scale messaging\, and additional functions. \nCertPS provides extensive Microsoft Windows Server training and certification courses designed to empower you with the hands-on knowledge to deploy\, configure\, administer\, and support Windows Server systems efficiently. Our online mode of training and ILT classes are conducted by certified professional instructors and cover official Microsoft Curriculum. \nWe also offer Microsoft Windows Server training courses for various Server OS versions to help you become familiar with the various aspects of Microsoft Windows storage\, virtualization\, and networking capabilities with the enhanced user experience. \nMCSA: Windows Server 2016\nThe Microsoft Certified Solutions Associate (MCSA) certification is the first step to grow expertise and skills in Microsoft technology with a qualification and prepare for more advanced certifications. \nRecently introduced MCSA Windows Server 2016 certification accredits the expertise of an IT professional in deploying and managing Windows Server 2016 on desktops and devices in an enterprise environment. This is a mid-level certification and the first step on your path to become a Microsoft Certified Solutions Expert (MCSE). \n  \nView Product \n 
URL:https://certps.com/event/20742-identity-with-windows-server-2016-course-description-july-2018/
END:VEVENT
BEGIN:VEVENT
DTSTART;VALUE=DATE:20180716
DTEND;VALUE=DATE:20180721
DTSTAMP:20260422T143803
CREATED:20180420T150354Z
LAST-MODIFIED:20210103T155048Z
UID:461-1531699200-1532131199@certps.com
SUMMARY:Interconnecting Cisco Networking Devices\, Part 1 v 3.0 - ICND1 (Entry) July 2018
DESCRIPTION:July 16\, 2018 – July 20\, 2018\n9:00am – 5:00pm EST           40 Hours\nCertPS provides the perfect platform for aspiring IT professionals to enhance their knowledge in Cisco products and technologies as a Cisco-authorized training provider. Learn the basics and fundamentals of networking and switching domain through the entry level Interconnecting Cisco Networking Devices\, Part 1 v3.0 – ICND1 training course at. \nImparted through hands-on lab exercises by the expert instructors\, the ICND1 Part 1 v3.0 exam training will impart learners about installing\, preparing\, configuring and verifying a basic IPv4 and IPv6 network. The all-inclusive training also includes tutorials on establishing internet connectivity\, functions of networking\, performing basic troubleshooting\, configuring device security\, configuring static routing\, and more. \nThe Part 1 v3.0 – ICND1 Certification Exam training covers all the basic fundamentals and concepts of Cisco routers and switches. Providing a foundational understanding to entry-level candidates as well as working professionals\, the course prepares learners for Cisco CCNA certification. This course is also associated with CCENT certification \nCisco Routing & Switching\nWith the revolutionary pace of migration of enterprises to controller-based architectures\, network engineers need to be highly skilled and fully equipped with far-reaching technical know-how. Cisco Routing & Switching Track training courses enable network professionals with extensive implementation and deployment of futuristic technologies for seamlessly smooth functioning of the entire network. \nCertPS is a pioneered and authorized provider of Cisco Routing & Switching Track training and certification courses. We deliver hands-on networking training for beginners\, also seasoned professionals. Cisco CCNA Routing and Switching training courses at our location through hands-on lab exercises or at your preferred training location. Our Cisco Routing & Switching well-qualified trainers facilitate networking professionals and aspirants to achieve the mapped certifications which add to the proficiency in conducting onsite maintenance and support for switches\, routers\, and network infrastructures. \nYou can enroll for this certification training if you are aspiring network administrator\, network specialist\, network engineer associate\, network support engineer\, or network analysts intending to excel in networking infrastructure support and maintenance. Our extensive CCNA routing and switching training course will help you to enhance your skills in streamlining the networking infrastructure. \n  \nView Product \n 
URL:https://certps.com/event/interconnecting-cisco-networking-devices-part-1-v-3-0-icnd1-entry-july-2018/
END:VEVENT
BEGIN:VEVENT
DTSTART;VALUE=DATE:20180716
DTEND;VALUE=DATE:20180718
DTSTAMP:20260422T143803
CREATED:20180420T174539Z
LAST-MODIFIED:20210103T155053Z
UID:524-1531699200-1531871999@certps.com
SUMMARY:Autodesk AutoCAD 2017 Level 2: Intermediate July 2018
DESCRIPTION:July 16\, 2018 – July 17\, 2018\n9:00am – 5:00pm EST           16 Hours\nDiscover the powerful tools and techniques for drawing\, dimensioning\, and printing 2D drawings in this course that enables you to reuse content and extract information from your drawings. With an understanding of the tools and concepts you’ll learn in class\, you can begin to streamline the design process and become more productive with AutoCAD. \nAutodesk AutoCAD\nAutoCAD from Autodesk is a cutting-edge software used in Computer-Aided Designs (CAD) to create compelling 2D and 3D models in architecture\, construction\, and manufacturing industries. This feature-rich CAD software allows designers to prepare blueprints and other plans through export\, import\, and publishing features. The ability to create both 2D and 3D designs from drafting to detailing aids in easier product development and integration. \nCertified Professional Standards delivers the expert understanding and implementation of various CAD features through innovative Autodesk AutoCAD training and certification courses. Our trainers are industry experts from various domains having technical know-how of the best practices and the most recent versions of CAD software. We deliver expert Autodesk AutoCAD training to prepare CAD aspirants for acquiring various AutoCAD certifications. \nYou can now learn cutting-edge product designing and modeling within your budget and timelines suited to your schedules on the go while mastering every step in the 2D/ 3D model creation process using advanced designing tools \n  \nView Product \n 
URL:https://certps.com/event/autodesk-autocad-2017-level-2-intermediate-july-2018-2/
END:VEVENT
BEGIN:VEVENT
DTSTART;VALUE=DATE:20180709
DTEND;VALUE=DATE:20180714
DTSTAMP:20260422T143803
CREATED:20180419T192456Z
LAST-MODIFIED:20180524T012150Z
UID:302-1531094400-1531526399@certps.com
SUMMARY:20740: Installation\, Storage\, and Compute with Windows Server 2016 July 2018
DESCRIPTION:July 09\, 2018 – July 13\, 2018\n9:00am – 5:00pm EST             40 Hours \nThis course is designed primarily for IT professionals who have some experience with Windows Server. It is designed for professionals who will be responsible for managing storage and compute by using Windows Server 2016\, and who need to understand the scenarios\, requirements\, and storage and compute options that are available and applicable to Windows Server 2016. This course is based on the objectives of the course version 20740C \nMicrosoft Windows Server\nMicrosoft Windows Server is a series of server operating systems to support enterprise-level management and the sharing of services with different users. Windows Server facilitates efficient data storage while supporting diverse applications and smooth communications with extensive administrative control. Windows Server consists of a group of more powerful versions of the desktop operating system counterparts specifically designed to address the concerns of databases\, Internet/intranet hosting\, corporate networking\, enterprise-scale messaging\, and additional functions. \nCertPS provides extensive Microsoft Windows Server training and certification courses designed to empower you with the hands-on knowledge to deploy\, configure\, administer\, and support Windows Server systems efficiently. Our online mode of training and ILT classes are conducted by certified professional instructors and cover official Microsoft Curriculum. \nWe also offer Microsoft Windows Server training courses for various Server OS versions to help you become familiar with the various aspects of Microsoft Windows storage\, virtualization\, and networking capabilities with the enhanced user experience. \nMCSA: Windows Server 2016\nThe Microsoft Certified Solutions Associate (MCSA) certification is the first step to grow expertise and skills in Microsoft technology with a qualification and prepare for more advanced certifications. \nRecently introduced MCSA Windows Server 2016 certification accredits the expertise of an IT professional in deploying and managing Windows Server 2016 on desktops and devices in an enterprise environment. This is a mid-level certification and the first step on your path to become a Microsoft Certified Solutions Expert (MCSE). \n  \nView Product \n 
URL:https://certps.com/event/20740-installation-storage-and-compute-with-windows-server-2016-july-2018-5/
END:VEVENT
BEGIN:VEVENT
DTSTART;VALUE=DATE:20180709
DTEND;VALUE=DATE:20180714
DTSTAMP:20260422T143803
CREATED:20180419T145456Z
LAST-MODIFIED:20210103T155057Z
UID:240-1531094400-1531526399@certps.com
SUMMARY:20347: Enabling & Managing Office 365 July 2018
DESCRIPTION:July 09\, 2018 – July 13\, 2018\n9:00am – 5:00pm EST             40 Hours\nEnabling & Managing Office 365 course that targets the needs of IT professionals who take part in evaluating\, planning\, deploying\, and operating Office 365 services\, including its identities\, dependencies\, requirements\, and supporting technologies. This course focuses on skills required to set up an Office 365 tenant\, including federation with existing user identities\, and skills required to sustain an Office 365 tenant and its users. \nMicrosoft Office 365\nMS Office 365 is a set of tools designed to enhance the overall productivity of any business. With anytime and anywhere access\, Office 365 is a feature-rich cloud application that allows you to take your office anywhere with you across the globe. By simply signing in\, you can seamlessly access your work email\, use shared calendars\, collaborate with teams\, and much more on a range of devices and platforms\, including Windows\, macOS\, iOS\, and Android. \nMicrosoft Office 365 training at focuses on explaining the fundamentals of MS-Word\, Excel\, Outlook\, PowerPoint\, SharePoint\, Exchange\, Lync\, Skype\, and Windows PowerShell to help you gain efficiency\, increase productivity\, and stay ahead of the curve.\nWe deliver best-in-class Microsoft Office 365 training and certification courses in customized schedules and various learning modes\, including classroom\, e-learning\, onsite\, private/ public/ group and instructor-led blended. \nThis course is based on the objectives of the course version 20347A. \n  \nView Product \n 
URL:https://certps.com/event/20347-enabling-managing-office-365-july-2018/
END:VEVENT
BEGIN:VEVENT
DTSTART;VALUE=DATE:20180709
DTEND;VALUE=DATE:20180712
DTSTAMP:20260422T143803
CREATED:20180420T175223Z
LAST-MODIFIED:20210103T155107Z
UID:530-1531094400-1531353599@certps.com
SUMMARY:Architecting on AWS July 2018
DESCRIPTION:July 09\, 2018 – July 11\, 2018\n9:00am – 5:00pm EST           24 Hours\nArchitecting on AWS training covers the fundamentals of building IT infrastructure on AWS. The course is designed to teach solutions architects how to optimize the use of the AWS Cloud by understanding AWS services and how these services fit into cloud-based solutions. This course emphasizes AWS cloud best practices and recommended design patterns to help students think through the process of architecting optimal IT solutions on AWS. Case studies throughout the course showcase how some AWS customers have designed their infrastructures and the strategies and services they implemented. This course leads to AWS Certified Solutions Architect – Associate Certification \nAWS Architecting\nAWS Architecting path is designed for solutions architects\, solution design engineers\, and anyone who wants to learn how to design applications and systems on AWS. Build your technical skills and progress along a path to earn AWS Certification with these recommended courses\, and exams \n  \nView Product \n 
URL:https://certps.com/event/architecting-on-aws-july-2018-3/
END:VEVENT
END:VCALENDAR